BEGIN:VCALENDAR
VERSION:2.0
PRODID:-//World Congress of Chiropractic Students - WCCS - ECPv6.15.18//NONSGML v1.0//EN
CALSCALE:GREGORIAN
METHOD:PUBLISH
X-WR-CALNAME:World Congress of Chiropractic Students - WCCS
X-ORIGINAL-URL:https://wccsworldwide.org
X-WR-CALDESC:Events for World Congress of Chiropractic Students - WCCS
REFRESH-INTERVAL;VALUE=DURATION:PT1H
X-Robots-Tag:noindex
X-PUBLISHED-TTL:PT1H
BEGIN:VTIMEZONE
TZID:Europe/Copenhagen
BEGIN:DAYLIGHT
TZOFFSETFROM:+0100
TZOFFSETTO:+0200
TZNAME:CEST
DTSTART:20240331T010000
END:DAYLIGHT
BEGIN:STANDARD
TZOFFSETFROM:+0200
TZOFFSETTO:+0100
TZNAME:CET
DTSTART:20241027T010000
END:STANDARD
BEGIN:DAYLIGHT
TZOFFSETFROM:+0100
TZOFFSETTO:+0200
TZNAME:CEST
DTSTART:20250330T010000
END:DAYLIGHT
BEGIN:STANDARD
TZOFFSETFROM:+0200
TZOFFSETTO:+0100
TZNAME:CET
DTSTART:20251026T010000
END:STANDARD
BEGIN:DAYLIGHT
TZOFFSETFROM:+0100
TZOFFSETTO:+0200
TZNAME:CEST
DTSTART:20260329T010000
END:DAYLIGHT
BEGIN:STANDARD
TZOFFSETFROM:+0200
TZOFFSETTO:+0100
TZNAME:CET
DTSTART:20261025T010000
END:STANDARD
BEGIN:DAYLIGHT
TZOFFSETFROM:+0100
TZOFFSETTO:+0200
TZNAME:CEST
DTSTART:20270328T010000
END:DAYLIGHT
BEGIN:STANDARD
TZOFFSETFROM:+0200
TZOFFSETTO:+0100
TZNAME:CET
DTSTART:20271031T010000
END:STANDARD
END:VTIMEZONE
BEGIN:VTIMEZONE
TZID:Asia/Manila
BEGIN:STANDARD
TZOFFSETFROM:+0800
TZOFFSETTO:+0800
TZNAME:PST
DTSTART:20240101T000000
END:STANDARD
END:VTIMEZONE
BEGIN:VTIMEZONE
TZID:Atlantic/South_Georgia
BEGIN:STANDARD
TZOFFSETFROM:-0200
TZOFFSETTO:-0200
TZNAME:-02
DTSTART:20250101T000000
END:STANDARD
END:VTIMEZONE
BEGIN:VTIMEZONE
TZID:Europe/London
BEGIN:DAYLIGHT
TZOFFSETFROM:+0000
TZOFFSETTO:+0100
TZNAME:BST
DTSTART:20250330T010000
END:DAYLIGHT
BEGIN:STANDARD
TZOFFSETFROM:+0100
TZOFFSETTO:+0000
TZNAME:GMT
DTSTART:20251026T010000
END:STANDARD
BEGIN:DAYLIGHT
TZOFFSETFROM:+0000
TZOFFSETTO:+0100
TZNAME:BST
DTSTART:20260329T010000
END:DAYLIGHT
BEGIN:STANDARD
TZOFFSETFROM:+0100
TZOFFSETTO:+0000
TZNAME:GMT
DTSTART:20261025T010000
END:STANDARD
BEGIN:DAYLIGHT
TZOFFSETFROM:+0000
TZOFFSETTO:+0100
TZNAME:BST
DTSTART:20270328T010000
END:DAYLIGHT
BEGIN:STANDARD
TZOFFSETFROM:+0100
TZOFFSETTO:+0000
TZNAME:GMT
DTSTART:20271031T010000
END:STANDARD
END:VTIMEZONE
BEGIN:VEVENT
DTSTART;VALUE=DATE:20250706
DTEND;VALUE=DATE:20250712
DTSTAMP:20260421T211804
CREATED:20250203T195045Z
LAST-MODIFIED:20250630T100720Z
UID:2614-1751760000-1752278399@wccsworldwide.org
SUMMARY:AGM 2025: Denmark\, Odense
DESCRIPTION:Each year\, representatives from chapters around the world come together for a week to address organisational matters\, elect a new Team of Officials\, and vote on proposals. Beyond administrative duties\, attendees expand their knowledge through speakers and workshops that cover a wide range of chiropractic and general healthcare topics. Additionally\, social activities during the AGM foster international connections and lasting friendships\, creating an event rich in education\, enjoyment\, and a strong sense of community. In 2025\, the AGM will take place from July 6 to 11 in the idyllic city of Odense\, Denmark\, hosted by the WCCS Chapter of University of Southern Denmark (SDU). The SDU chapter is delighted to welcome delegates from around the world with an exciting program featuring inspiring speakers and engaging social activities\, offering a true immersion into Danish culture.
URL:https://wccsworldwide.org/event/agm-2025-denmark-odense/
CATEGORIES:Annual General Meetings
ATTACH;FMTTYPE=image/jpeg:https://wccsworldwide.org/wp-content/uploads/2025/02/Odense-City.jpg
END:VEVENT
BEGIN:VEVENT
DTSTART;TZID=Asia/Manila:20250917T130000
DTEND;TZID=Asia/Manila:20250917T143000
DTSTAMP:20260421T211804
CREATED:20250902T093602Z
LAST-MODIFIED:20250902T101330Z
UID:3250-1758114000-1758119400@wccsworldwide.org
SUMMARY:Phillip Ebrall: Bi-Monthly Speaker
DESCRIPTION:Phillip Ebrall\nWhat is the diagnosis?\nBAppSc(Chiropr)\, GC Tert Learn Teach\, MPhotog\, PhD\, DC (Hon)\, FACCS\, FICCS\nResearch Scientist: History and Philosophy – Chiropractic [Field 220299] \n  \n \nPhillip Ebrall has had a diverse academic career\, focusing on lesson planning\, competency assessment\, and curriculum design\, with a passion for continuous improvement. A citizen of Asia and a resident of Australia\, he works across borders and now volunteers to curate emerging programs. Starting in 1990 as a Lecturer at RMIT University\, he became Associate Professor and Discipline Head by 2003.\nIn 2011\, Phillip became the founding Professor of Chiropractic at Central Queensland University\, where he established Australia’s first chiropractic program in a regional city. He retired in 2014 due to illness but has since recovered.\nPhillip has developed and managed chiropractic curricula in eight programs across five countries\, ensuring accreditation compliance. He has influenced programs in Asia and served as President of the Tokyo College of Chiropractic from 2018. His second textbook\, A Philosophy of Chiropractic\, is now available online. Phillip Ebrall\, Class of 1989 alumni of Phillip Institute of Technology Melbourne. \nCurrent Projects: Developing curricula for new chiropractic programs and editing the Asia-Pacific Chiropractic Journal. \n 
URL:https://wccsworldwide.org/event/phillip-ebrall-bi-monthly-speaker/
LOCATION:Online via Zoom
CATEGORIES:Speaker Series
ATTACH;FMTTYPE=image/png:https://wccsworldwide.org/wp-content/uploads/2025/09/0.png
END:VEVENT
BEGIN:VEVENT
DTSTART;VALUE=DATE:20260226
DTEND;VALUE=DATE:20260302
DTSTAMP:20260421T211804
CREATED:20260119T175557Z
LAST-MODIFIED:20260120T192001Z
UID:3331-1772064000-1772409599@wccsworldwide.org
SUMMARY:American RE 2026: USA
DESCRIPTION:WCCS Regional Events (RE) are held annually\, lasting 2-3 days in each region. It aims to provide a platform for chiropractic students in that specific region to connect\, learn\, and engage in international exchange on topics like research\, education\, and techniques. Featuring speakers and interactive workshops\, Regional Events encourage active participation and practical skill development. The American Regional Event in 2026 will be held from 26 February to 1 March\, in the Marietta\, Georgia. The event will be proudly hosted by the WCCS Chapter at Life University. \nLife University\, established on October 1\, 1974\, has grown from its origins as a dedicated chiropractic (DC) program into a dynamic institution offering both Bachelor’s and Master’s degrees. While the university has expanded its academic offerings\, it remains deeply committed to excellence in chiropractic education\, proudly graduating approximately 2\,000 DC students annually. Beyond academics\, Life University fosters a lively campus spirit with a strong emphasis on athletics\, featuring competitive programs in rugby\, soccer\, basketball\, lacrosse\, swimming\, and more. This blend of rigorous education and vibrant sports culture creates a well-rounded environment where students thrive both intellectually and physically. \nRegistration is now open. \n 
URL:https://wccsworldwide.org/event/american-re-2026-marietta/
LOCATION:Life University\, Marietta\, GA\, United States
CATEGORIES:Regional Events
ATTACH;FMTTYPE=image/webp:https://wccsworldwide.org/wp-content/uploads/2026/01/tower-bell.webp
ORGANIZER;CN="Life University":MAILTO:daniela-mercedes.lam@student.life.edu
END:VEVENT
BEGIN:VEVENT
DTSTART;VALUE=DATE:20260409
DTEND;VALUE=DATE:20260412
DTSTAMP:20260421T211804
CREATED:20260112T130850Z
LAST-MODIFIED:20260223T110712Z
UID:3304-1775692800-1775951999@wccsworldwide.org
SUMMARY:European RE 2026: Scotland
DESCRIPTION:WCCS Regional Events (RE) are held annually\, lasting 2-3 days in each region. It aims to provide a platform for chiropractic students in that specific region to connect\, learn\, and engage in international exchange on topics like research\, education\, and techniques. Featuring speakers and interactive workshops\, Regional Events encourage active participation and practical skill development. The European Regional Event in 2026 will be held from April 9 to April 11\, in the Edinburgh\, Scotland. The event will be proudly hosted by the WCCS Chapter at the Scotland Chiropractic College (SCC) and they are thrilled to welcome delegates from across the European region\, offering a fantastic program featuring inspiring speakers\, engaging workshops\, and a vibrant social itinerary. \nThe theme of this year’s event is “Unity Through Diversity.” We are hosting ten guest speakers from the UK and abroad\, including several who are internationally recognised leaders in their fields\, delivering a combination of lectures and practical workshops. \nThe programme covers the full breadth of chiropractic\, including technique\, philosophy\, science and research\, paediatrics\, business\, and life after graduation. \nRegistrations are now open.
URL:https://wccsworldwide.org/event/european-re-2026-scotland/
LOCATION:Scotland Chiropractic College\, 124a Raeburn Place Edinburgh EH4 1HG
CATEGORIES:Regional Events
ATTACH;FMTTYPE=image/webp:https://wccsworldwide.org/wp-content/uploads/2026/01/unsplash-image-EUTShdiF5U8.webp
END:VEVENT
BEGIN:VEVENT
DTSTART;VALUE=DATE:20260705
DTEND;VALUE=DATE:20260711
DTSTAMP:20260421T211804
CREATED:20260410T055135Z
LAST-MODIFIED:20260410T055203Z
UID:3484-1783209600-1783727999@wccsworldwide.org
SUMMARY:AGM 2026: Los Angeles\, USA
DESCRIPTION:Each year\, representatives from chapters around the world come together for a week to address organisational matters\, elect a new Team of Officials\, and vote on proposals. Beyond administrative duties\, attendees expand their knowledge through speakers and workshops that cover a wide range of chiropractic and general healthcare topics. Additionally\, social activities during the AGM foster international connections and lasting friendships\, creating an event rich in education\, enjoyment\, and a strong sense of community. In 2026\, the AGM will take place from July 5 to 10 in the Los Angeles\, USA hosted by the WCCS Chapter of Southern California University of Health Sciences (SCUHS). The SCUHS chapter is delighted to welcome delegates from around the world with an exciting program featuring inspiring speakers and engaging social activities.
URL:https://wccsworldwide.org/event/agm-2026-los-angeles-usa/
CATEGORIES:Annual General Meetings
ATTACH;FMTTYPE=image/jpeg:https://wccsworldwide.org/wp-content/uploads/2025/02/Odense-City.jpg
END:VEVENT
END:VCALENDAR