BEGIN:VCALENDAR
VERSION:2.0
PRODID:-//World Congress of Chiropractic Students - WCCS - ECPv6.15.18//NONSGML v1.0//EN
CALSCALE:GREGORIAN
METHOD:PUBLISH
X-ORIGINAL-URL:https://wccsworldwide.org
X-WR-CALDESC:Events for World Congress of Chiropractic Students - WCCS
REFRESH-INTERVAL;VALUE=DURATION:PT1H
X-Robots-Tag:noindex
X-PUBLISHED-TTL:PT1H
BEGIN:VTIMEZONE
TZID:America/Kentucky/Louisville
BEGIN:DAYLIGHT
TZOFFSETFROM:-0500
TZOFFSETTO:-0400
TZNAME:EDT
DTSTART:20240310T070000
END:DAYLIGHT
BEGIN:STANDARD
TZOFFSETFROM:-0400
TZOFFSETTO:-0500
TZNAME:EST
DTSTART:20241103T060000
END:STANDARD
BEGIN:DAYLIGHT
TZOFFSETFROM:-0500
TZOFFSETTO:-0400
TZNAME:EDT
DTSTART:20250309T070000
END:DAYLIGHT
BEGIN:STANDARD
TZOFFSETFROM:-0400
TZOFFSETTO:-0500
TZNAME:EST
DTSTART:20251102T060000
END:STANDARD
BEGIN:DAYLIGHT
TZOFFSETFROM:-0500
TZOFFSETTO:-0400
TZNAME:EDT
DTSTART:20260308T070000
END:DAYLIGHT
BEGIN:STANDARD
TZOFFSETFROM:-0400
TZOFFSETTO:-0500
TZNAME:EST
DTSTART:20261101T060000
END:STANDARD
END:VTIMEZONE
BEGIN:VTIMEZONE
TZID:Europe/Zurich
BEGIN:DAYLIGHT
TZOFFSETFROM:+0100
TZOFFSETTO:+0200
TZNAME:CEST
DTSTART:20240331T010000
END:DAYLIGHT
BEGIN:STANDARD
TZOFFSETFROM:+0200
TZOFFSETTO:+0100
TZNAME:CET
DTSTART:20241027T010000
END:STANDARD
BEGIN:DAYLIGHT
TZOFFSETFROM:+0100
TZOFFSETTO:+0200
TZNAME:CEST
DTSTART:20250330T010000
END:DAYLIGHT
BEGIN:STANDARD
TZOFFSETFROM:+0200
TZOFFSETTO:+0100
TZNAME:CET
DTSTART:20251026T010000
END:STANDARD
BEGIN:DAYLIGHT
TZOFFSETFROM:+0100
TZOFFSETTO:+0200
TZNAME:CEST
DTSTART:20260329T010000
END:DAYLIGHT
BEGIN:STANDARD
TZOFFSETFROM:+0200
TZOFFSETTO:+0100
TZNAME:CET
DTSTART:20261025T010000
END:STANDARD
END:VTIMEZONE
BEGIN:VEVENT
DTSTART;VALUE=DATE:20250307
DTEND;VALUE=DATE:20250310
DTSTAMP:20260422T012634
CREATED:20241220T101455Z
LAST-MODIFIED:20260120T174930Z
UID:2512-1741305600-1741564799@wccsworldwide.org
SUMMARY:Americas RE 2025: Kansas City\, USA
DESCRIPTION:Each year\, chiropractic students from chapters across the region come together for a weekend of collaboration\, education\, and networking. This regional meeting focuses on fostering connections between chapters\, sharing ideas\, and developing initiatives to advance chiropractic care. Attendees participate in workshops and presentations led by inspiring speakers\, with topics tailored to chiropractic practice and healthcare trends. Social activities provide additional opportunities to build friendships and strengthen the regional community. In 2025\, the American Regional Meeting will take place from March 7 to 9 in Kansas City\, hosted by the WCCS Chapter of Cleveland University-Kansas City (CUKC). The local chapter is thrilled to welcome students from across the region\, offering a dynamic program filled with engaging sessions and a chance to explore the vibrant culture and history of Kansas City. \n\n\n\n\n\n\n\n\n\nRegistrations have been closed. 
URL:https://wccsworldwide.org/event/americas-re-2025-kansas-city-usa/
CATEGORIES:Regional Events
ATTACH;FMTTYPE=image/png:https://wccsworldwide.org/wp-content/uploads/2024/12/Title-page-Kansas-City.png
END:VEVENT
BEGIN:VEVENT
DTSTART;VALUE=DATE:20250307
DTEND;VALUE=DATE:20250310
DTSTAMP:20260422T012634
CREATED:20260120T084342Z
LAST-MODIFIED:20260209T131535Z
UID:3355-1741305600-1741564799@wccsworldwide.org
SUMMARY:Americas RE 2025: Kansas City\, USA
DESCRIPTION:Each year\, chiropractic students from chapters across the region come together for a weekend of collaboration\, education\, and networking. This regional meeting focuses on fostering connections between chapters\, sharing ideas\, and developing initiatives to advance chiropractic care. Attendees participate in workshops and presentations led by inspiring speakers\, with topics tailored to chiropractic practice and healthcare trends. Social activities provide additional opportunities to build friendships and strengthen the regional community. In 2025\, the American Regional Meeting will take place from March 7 to 9 in Kansas City\, hosted by the WCCS Chapter of Cleveland University-Kansas City (CUKC). The local chapter is thrilled to welcome students from across the region\, offering a dynamic program filled with engaging sessions and a chance to explore the vibrant culture and history of Kansas City. \n\n\n\n\n\n\n\n\n\nRegistrations have been closed. 
URL:https://wccsworldwide.org/event/americas-re-2025-kansas-city-usa-2/
CATEGORIES:Past Events
ATTACH;FMTTYPE=image/png:https://wccsworldwide.org/wp-content/uploads/2024/12/Title-page-Kansas-City.png
END:VEVENT
BEGIN:VEVENT
DTSTART;VALUE=DATE:20250320
DTEND;VALUE=DATE:20250324
DTSTAMP:20260422T012634
CREATED:20241221T090109Z
LAST-MODIFIED:20250619T132235Z
UID:2421-1742428800-1742774399@wccsworldwide.org
SUMMARY:European RE 2025: Switzerland
DESCRIPTION:WCCS Regional Events (RE) are held annually\, lasting 2-3 days in each region. It aims to provide a platform for chiropractic students in that specific region to connect\, learn\, and engage in international exchange on topics like research\, education\, and techniques. Featuring speakers and interactive workshops\, Regional Events encourage active participation and practical skill development. The European Regional Event in 2025 will be held from March 21 to March 23\, with an unofficial kickoff on the evening of March 20\, in the picturesque city of Zurich\, Switzerland. The event will be proudly hosted by the WCCS Chapter at the University of Zurich (UZH) and they are thrilled to welcome delegates from across the European region\, offering a fantastic program featuring inspiring speakers\, engaging workshops\, and a vibrant social itinerary. Attendees will gain valuable insights into how chiropractic is taught and practiced in Switzerland while experiencing a taste of Swiss culture.  Registrations have been closed. 
URL:https://wccsworldwide.org/event/european-re-2025-switzerland/
LOCATION:Balgrist University Hospital\, Switzerland
CATEGORIES:Past Events,Regional Events
ATTACH;FMTTYPE=image/png:https://wccsworldwide.org/wp-content/uploads/2024/11/European-Regional-Event-2025-Zurich.png
END:VEVENT
END:VCALENDAR